Package: philr Version: 1.33.0 Command: /home/biocbuild/bbs-3.21-bioc/R/bin/R CMD INSTALL philr StartedAt: 2025-02-20 15:18:39 -0500 (Thu, 20 Feb 2025) EndedAt: 2025-02-20 15:18:49 -0500 (Thu, 20 Feb 2025) EllapsedTime: 9.4 seconds RetCode: 0 Status: OK