Package: philr Version: 1.33.0 Command: /home/biocbuild/bbs-3.21-bioc/R/bin/R CMD check --install=check:philr.install-out.txt --library=/home/biocbuild/bbs-3.21-bioc/R/site-library --timings philr_1.33.0.tar.gz StartedAt: 2025-02-21 00:38:49 -0500 (Fri, 21 Feb 2025) EndedAt: 2025-02-21 00:40:44 -0500 (Fri, 21 Feb 2025) EllapsedTime: 115.2 seconds RetCode: 0 Status: OK CheckDir: philr.Rcheck Warnings: 0