Package: philr Version: 1.33.0 Command: /Library/Frameworks/R.framework/Resources/bin/R CMD build --keep-empty-dirs --no-resave-data philr StartedAt: 2025-02-20 17:47:45 -0500 (Thu, 20 Feb 2025) EndedAt: 2025-02-20 17:48:33 -0500 (Thu, 20 Feb 2025) EllapsedTime: 48.1 seconds RetCode: 0 Status: OK PackageFile: philr_1.33.0.tar.gz PackageFileSize: 520.5 KiB