Package: philr Version: 1.33.0 Command: /home/biocbuild/R/R/bin/R CMD build --keep-empty-dirs --no-resave-data philr StartedAt: 2025-01-29 01:16:30 -0000 (Wed, 29 Jan 2025) EndedAt: 2025-01-29 01:17:24 -0000 (Wed, 29 Jan 2025) EllapsedTime: 54.0 seconds RetCode: 0 Status: OK PackageFile: philr_1.33.0.tar.gz PackageFileSize: 390.2 KiB