Package: philr Version: 1.33.0 Command: /Library/Frameworks/R.framework/Resources/bin/R CMD check --install=check:philr.install-out.txt --library=/Library/Frameworks/R.framework/Resources/library --no-vignettes --timings philr_1.33.0.tar.gz StartedAt: 2025-02-20 20:42:17 -0500 (Thu, 20 Feb 2025) EndedAt: 2025-02-20 20:42:56 -0500 (Thu, 20 Feb 2025) EllapsedTime: 39.4 seconds RetCode: 0 Status: OK CheckDir: philr.Rcheck Warnings: 0