Package: phenomis Version: 1.9.0 Command: E:\biocbuild\bbs-3.21-bioc\R\bin\R.exe CMD INSTALL phenomis StartedAt: 2025-02-20 16:47:54 -0500 (Thu, 20 Feb 2025) EndedAt: 2025-02-20 16:48:55 -0500 (Thu, 20 Feb 2025) EllapsedTime: 60.9 seconds RetCode: 0 Status: OK