Package: phenomis Version: 1.9.0 Command: E:\biocbuild\bbs-3.21-bioc\R\bin\R.exe CMD check --no-multiarch --install=check:phenomis.install-out.txt --library=E:\biocbuild\bbs-3.21-bioc\R\library --no-vignettes --timings phenomis_1.9.0.tar.gz StartedAt: 2025-02-21 04:20:44 -0500 (Fri, 21 Feb 2025) EndedAt: 2025-02-21 04:27:37 -0500 (Fri, 21 Feb 2025) EllapsedTime: 412.5 seconds RetCode: 0 Status: OK CheckDir: phenomis.Rcheck Warnings: 0