Package: phenomis Version: 1.9.0 Command: chmod a+r phenomis -R && E:\biocbuild\bbs-3.21-bioc\R\bin\R.exe CMD build --keep-empty-dirs --no-resave-data phenomis StartedAt: 2025-02-20 20:47:47 -0500 (Thu, 20 Feb 2025) EndedAt: 2025-02-20 20:49:54 -0500 (Thu, 20 Feb 2025) EllapsedTime: 127.9 seconds RetCode: 0 Status: OK PackageFile: phenomis_1.9.0.tar.gz PackageFileSize: 2.311 MiB