Package: phenomis Version: 1.9.0 Command: rm -rf phenomis.buildbin-libdir && mkdir phenomis.buildbin-libdir && E:\biocbuild\bbs-3.21-bioc\R\bin\R.exe CMD INSTALL --build --library=phenomis.buildbin-libdir phenomis_1.9.0.tar.gz StartedAt: 2025-02-21 08:45:27 -0500 (Fri, 21 Feb 2025) EndedAt: 2025-02-21 08:46:40 -0500 (Fri, 21 Feb 2025) EllapsedTime: 72.8 seconds RetCode: 0 Status: OK PackageFile: phenomis_1.9.0.zip PackageFileSize: 2.35 MiB