Package: phenomis Version: 1.9.0 Command: /home/biocbuild/bbs-3.21-bioc/R/bin/R CMD build --keep-empty-dirs --no-resave-data phenomis StartedAt: 2025-02-20 18:41:44 -0500 (Thu, 20 Feb 2025) EndedAt: 2025-02-20 18:43:11 -0500 (Thu, 20 Feb 2025) EllapsedTime: 87.2 seconds RetCode: 0 Status: OK PackageFile: phenomis_1.9.0.tar.gz PackageFileSize: 3.982 MiB