Package: phenomis Version: 1.9.0 Command: /Library/Frameworks/R.framework/Resources/bin/R CMD INSTALL phenomis StartedAt: 2025-02-20 15:38:50 -0500 (Thu, 20 Feb 2025) EndedAt: 2025-02-20 15:39:43 -0500 (Thu, 20 Feb 2025) EllapsedTime: 53.4 seconds RetCode: 0 Status: OK