Package: phenomis Version: 1.9.0 Command: /Library/Frameworks/R.framework/Resources/bin/R CMD build --keep-empty-dirs --no-resave-data phenomis StartedAt: 2025-02-20 17:47:20 -0500 (Thu, 20 Feb 2025) EndedAt: 2025-02-20 17:49:06 -0500 (Thu, 20 Feb 2025) EllapsedTime: 106.5 seconds RetCode: 0 Status: OK PackageFile: phenomis_1.9.0.tar.gz PackageFileSize: 3.939 MiB