Package: phenomis Version: 1.9.0 Command: /Library/Frameworks/R.framework/Resources/bin/R CMD check --install=check:phenomis.install-out.txt --library=/Library/Frameworks/R.framework/Resources/library --no-vignettes --timings phenomis_1.9.0.tar.gz StartedAt: 2025-02-20 20:41:47 -0500 (Thu, 20 Feb 2025) EndedAt: 2025-02-20 20:43:52 -0500 (Thu, 20 Feb 2025) EllapsedTime: 125.4 seconds RetCode: 0 Status: OK CheckDir: phenomis.Rcheck Warnings: 0