Package: phenomis Version: 1.9.0 Command: rm -rf phenomis.buildbin-libdir && mkdir phenomis.buildbin-libdir && /Users/biocbuild/BBS/utils/build-universal.sh phenomis_1.9.0.tar.gz /Library/Frameworks/R.framework/Resources/bin/R phenomis.buildbin-libdir StartedAt: 2025-02-20 22:29:35 -0500 (Thu, 20 Feb 2025) EndedAt: 2025-02-20 22:29:53 -0500 (Thu, 20 Feb 2025) EllapsedTime: 17.4 seconds RetCode: 0 Status: OK PackageFile: phenomis_1.9.0.tgz PackageFileSize: 3.97 MiB