Package: phenoTest Version: 1.55.0 Command: E:\biocbuild\bbs-3.21-bioc\R\bin\R.exe CMD INSTALL phenoTest StartedAt: 2025-02-20 15:56:39 -0500 (Thu, 20 Feb 2025) EndedAt: 2025-02-20 15:58:01 -0500 (Thu, 20 Feb 2025) EllapsedTime: 82.0 seconds RetCode: 0 Status: OK