Package: phenoTest Version: 1.55.0 Command: E:\biocbuild\bbs-3.21-bioc\R\bin\R.exe CMD check --no-multiarch --install=check:phenoTest.install-out.txt --library=E:\biocbuild\bbs-3.21-bioc\R\library --no-vignettes --timings phenoTest_1.55.0.tar.gz StartedAt: 2025-02-21 04:20:58 -0500 (Fri, 21 Feb 2025) EndedAt: 2025-02-21 04:25:17 -0500 (Fri, 21 Feb 2025) EllapsedTime: 258.9 seconds RetCode: 0 Status: OK CheckDir: phenoTest.Rcheck Warnings: 0