Package: phenoTest Version: 1.55.0 Command: rm -rf phenoTest.buildbin-libdir && mkdir phenoTest.buildbin-libdir && E:\biocbuild\bbs-3.21-bioc\R\bin\R.exe CMD INSTALL --build --library=phenoTest.buildbin-libdir phenoTest_1.55.0.tar.gz StartedAt: 2025-02-21 08:45:32 -0500 (Fri, 21 Feb 2025) EndedAt: 2025-02-21 08:46:57 -0500 (Fri, 21 Feb 2025) EllapsedTime: 85.5 seconds RetCode: 0 Status: OK PackageFile: phenoTest_1.55.0.zip PackageFileSize: 1.722 MiB