Package: phenoTest Version: 1.55.0 Command: /Library/Frameworks/R.framework/Resources/bin/R CMD INSTALL phenoTest StartedAt: 2025-02-20 15:32:23 -0500 (Thu, 20 Feb 2025) EndedAt: 2025-02-20 15:33:06 -0500 (Thu, 20 Feb 2025) EllapsedTime: 43.8 seconds RetCode: 0 Status: OK