Package: phenoTest Version: 1.55.0 Command: rm -rf phenoTest.buildbin-libdir && mkdir phenoTest.buildbin-libdir && /Users/biocbuild/BBS/utils/build-universal.sh phenoTest_1.55.0.tar.gz /Library/Frameworks/R.framework/Resources/bin/R phenoTest.buildbin-libdir StartedAt: 2025-02-21 00:45:17 -0500 (Fri, 21 Feb 2025) EndedAt: 2025-02-21 00:46:04 -0500 (Fri, 21 Feb 2025) EllapsedTime: 47.5 seconds RetCode: 0 Status: OK PackageFile: phenoTest_1.55.0.tgz PackageFileSize: 1.891 MiB