Package: phenoTest Version: 1.55.0 Command: /Library/Frameworks/R.framework/Resources/bin/R CMD check --install=check:phenoTest.install-out.txt --library=/Library/Frameworks/R.framework/Resources/library --no-vignettes --timings phenoTest_1.55.0.tar.gz StartedAt: 2025-02-20 20:42:02 -0500 (Thu, 20 Feb 2025) EndedAt: 2025-02-20 20:43:22 -0500 (Thu, 20 Feb 2025) EllapsedTime: 79.9 seconds RetCode: 0 Status: OK CheckDir: phenoTest.Rcheck Warnings: 0