Package: phenoTest Version: 1.55.0 Command: /Library/Frameworks/R.framework/Resources/bin/R CMD build --keep-empty-dirs --no-resave-data phenoTest StartedAt: 2025-02-20 17:14:28 -0500 (Thu, 20 Feb 2025) EndedAt: 2025-02-20 17:14:50 -0500 (Thu, 20 Feb 2025) EllapsedTime: 22.3 seconds RetCode: 0 Status: OK PackageFile: phenoTest_1.55.0.tar.gz PackageFileSize: 1.273 MiB