Package: phantasusLite Version: 1.5.0 Command: /Library/Frameworks/R.framework/Resources/bin/R CMD check --install=check:phantasusLite.install-out.txt --library=/Library/Frameworks/R.framework/Resources/library --no-vignettes --timings phantasusLite_1.5.0.tar.gz StartedAt: 2025-02-18 22:15:03 -0500 (Tue, 18 Feb 2025) EndedAt: 2025-02-18 22:18:59 -0500 (Tue, 18 Feb 2025) EllapsedTime: 235.4 seconds RetCode: 0 Status: OK CheckDir: phantasusLite.Rcheck Warnings: 0