Package: phantasusLite Version: 1.5.0 Command: /Library/Frameworks/R.framework/Resources/bin/R CMD INSTALL phantasusLite StartedAt: 2025-02-19 15:03:56 -0500 (Wed, 19 Feb 2025) EndedAt: 2025-02-19 15:04:05 -0500 (Wed, 19 Feb 2025) EllapsedTime: 8.9 seconds RetCode: 0 Status: OK