Package: phantasusLite Version: 1.5.0 Command: /Library/Frameworks/R.framework/Resources/bin/R CMD build --keep-empty-dirs --no-resave-data phantasusLite StartedAt: 2025-02-18 17:15:25 -0500 (Tue, 18 Feb 2025) EndedAt: 2025-02-18 17:16:00 -0500 (Tue, 18 Feb 2025) EllapsedTime: 35.4 seconds RetCode: 0 Status: OK PackageFile: phantasusLite_1.5.0.tar.gz PackageFileSize: 233.4 KiB