Package: phantasus Version: 1.27.0 Command: rm -rf phantasus.buildbin-libdir && mkdir phantasus.buildbin-libdir && E:\biocbuild\bbs-3.21-bioc\R\bin\R.exe CMD INSTALL --build --library=phantasus.buildbin-libdir phantasus_1.27.0.tar.gz StartedAt: 2025-02-21 08:45:18 -0500 (Fri, 21 Feb 2025) EndedAt: 2025-02-21 08:47:56 -0500 (Fri, 21 Feb 2025) EllapsedTime: 158.1 seconds RetCode: 0 Status: OK PackageFile: phantasus_1.27.0.zip PackageFileSize: 8.318 MiB