Package: phantasus Version: 1.27.0 Command: /Library/Frameworks/R.framework/Resources/bin/R CMD check --install=check:phantasus.install-out.txt --library=/Library/Frameworks/R.framework/Resources/library --no-vignettes --timings phantasus_1.27.0.tar.gz StartedAt: 2025-02-20 20:41:36 -0500 (Thu, 20 Feb 2025) EndedAt: 2025-02-20 20:44:37 -0500 (Thu, 20 Feb 2025) EllapsedTime: 181.2 seconds RetCode: 0 Status: OK CheckDir: phantasus.Rcheck Warnings: 0