Package: pgxRpi Version: 1.3.3 Command: E:\biocbuild\bbs-3.21-bioc\R\bin\R.exe CMD INSTALL pgxRpi StartedAt: 2025-02-18 16:56:39 -0500 (Tue, 18 Feb 2025) EndedAt: 2025-02-18 16:56:49 -0500 (Tue, 18 Feb 2025) EllapsedTime: 9.6 seconds RetCode: 0 Status: OK