Package: pgxRpi Version: 1.3.3 Command: E:\biocbuild\bbs-3.21-bioc\R\bin\R.exe CMD check --no-multiarch --install=check:pgxRpi.install-out.txt --library=E:\biocbuild\bbs-3.21-bioc\R\library --no-vignettes --timings pgxRpi_1.3.3.tar.gz StartedAt: 2025-02-14 04:04:08 -0500 (Fri, 14 Feb 2025) EndedAt: 2025-02-14 04:14:20 -0500 (Fri, 14 Feb 2025) EllapsedTime: 612.8 seconds RetCode: 0 Status: OK CheckDir: pgxRpi.Rcheck Warnings: 0