Package: pgxRpi Version: 1.3.3 Command: /Library/Frameworks/R.framework/Resources/bin/R CMD build --keep-empty-dirs --no-resave-data pgxRpi StartedAt: 2025-02-18 17:45:01 -0500 (Tue, 18 Feb 2025) EndedAt: 2025-02-18 17:51:00 -0500 (Tue, 18 Feb 2025) EllapsedTime: 359.8 seconds RetCode: 1 Status: ERROR PackageFile: None PackageFileSize: NA