Package: pgxRpi Version: 1.3.3 Command: rm -rf pgxRpi.buildbin-libdir && mkdir pgxRpi.buildbin-libdir && /Users/biocbuild/BBS/utils/build-universal.sh pgxRpi_1.3.3.tar.gz /Library/Frameworks/R.framework/Resources/bin/R pgxRpi.buildbin-libdir StartedAt: 2025-02-14 00:43:01 -0500 (Fri, 14 Feb 2025) EndedAt: 2025-02-14 00:43:09 -0500 (Fri, 14 Feb 2025) EllapsedTime: 8.2 seconds RetCode: 0 Status: OK PackageFile: pgxRpi_1.3.3.tgz PackageFileSize: 3.043 MiB