Package: pgca Version: 1.31.0 Command: E:\biocbuild\bbs-3.21-bioc\R\bin\R.exe CMD INSTALL pgca StartedAt: 2025-02-18 15:19:18 -0500 (Tue, 18 Feb 2025) EndedAt: 2025-02-18 15:19:29 -0500 (Tue, 18 Feb 2025) EllapsedTime: 10.9 seconds RetCode: 0 Status: OK