Package: pgca Version: 1.31.0 Command: /Library/Frameworks/R.framework/Resources/bin/R CMD build --keep-empty-dirs --no-resave-data pgca StartedAt: 2025-02-18 17:44:58 -0500 (Tue, 18 Feb 2025) EndedAt: 2025-02-18 17:45:08 -0500 (Tue, 18 Feb 2025) EllapsedTime: 9.2 seconds RetCode: 0 Status: OK PackageFile: pgca_1.31.0.tar.gz PackageFileSize: 216.9 KiB