Package: pfamAnalyzeR Version: 1.7.0 Command: /Library/Frameworks/R.framework/Resources/bin/R CMD INSTALL pfamAnalyzeR StartedAt: 2025-02-17 15:06:57 -0500 (Mon, 17 Feb 2025) EndedAt: 2025-02-17 15:07:21 -0500 (Mon, 17 Feb 2025) EllapsedTime: 24.5 seconds RetCode: 0 Status: OK