Package: pfamAnalyzeR Version: 1.7.0 Command: /Library/Frameworks/R.framework/Resources/bin/R CMD build --keep-empty-dirs --no-resave-data pfamAnalyzeR StartedAt: 2025-02-17 17:45:16 -0500 (Mon, 17 Feb 2025) EndedAt: 2025-02-17 17:45:26 -0500 (Mon, 17 Feb 2025) EllapsedTime: 10.3 seconds RetCode: 0 Status: OK PackageFile: pfamAnalyzeR_1.7.0.tar.gz PackageFileSize: 351.8 KiB