Package: pfamAnalyzeR Version: 1.7.0 Command: rm -rf pfamAnalyzeR.buildbin-libdir && mkdir pfamAnalyzeR.buildbin-libdir && /Users/biocbuild/BBS/utils/build-universal.sh pfamAnalyzeR_1.7.0.tar.gz /Library/Frameworks/R.framework/Resources/bin/R pfamAnalyzeR.buildbin-libdir StartedAt: 2025-02-18 00:39:02 -0500 (Tue, 18 Feb 2025) EndedAt: 2025-02-18 00:39:09 -0500 (Tue, 18 Feb 2025) EllapsedTime: 7.0 seconds RetCode: 0 Status: OK PackageFile: pfamAnalyzeR_1.7.0.tgz PackageFileSize: 310.9 KiB