Package: pfamAnalyzeR Version: 1.7.0 Command: /home/biocbuild/R/R/bin/R CMD INSTALL pfamAnalyzeR StartedAt: 2025-01-29 19:35:14 -0000 (Wed, 29 Jan 2025) EndedAt: 2025-01-29 19:35:23 -0000 (Wed, 29 Jan 2025) EllapsedTime: 9.2 seconds RetCode: 0 Status: OK