Package: pfamAnalyzeR Version: 1.7.0 Command: /Library/Frameworks/R.framework/Resources/bin/R CMD check --install=check:pfamAnalyzeR.install-out.txt --library=/Library/Frameworks/R.framework/Resources/library --no-vignettes --timings pfamAnalyzeR_1.7.0.tar.gz StartedAt: 2025-02-17 20:40:54 -0500 (Mon, 17 Feb 2025) EndedAt: 2025-02-17 20:41:08 -0500 (Mon, 17 Feb 2025) EllapsedTime: 14.2 seconds RetCode: 0 Status: OK CheckDir: pfamAnalyzeR.Rcheck Warnings: 0