Package: periodicDNA Version: 1.17.0 Command: /Library/Frameworks/R.framework/Resources/bin/R CMD check --install=check:periodicDNA.install-out.txt --library=/Library/Frameworks/R.framework/Resources/library --no-vignettes --timings periodicDNA_1.17.0.tar.gz StartedAt: 2025-02-18 22:14:38 -0500 (Tue, 18 Feb 2025) EndedAt: 2025-02-18 22:21:03 -0500 (Tue, 18 Feb 2025) EllapsedTime: 384.6 seconds RetCode: 0 Status: WARNINGS CheckDir: periodicDNA.Rcheck Warnings: 1