Package: periodicDNA Version: 1.17.0 Command: rm -rf periodicDNA.buildbin-libdir && mkdir periodicDNA.buildbin-libdir && /Users/biocbuild/BBS/utils/build-universal.sh periodicDNA_1.17.0.tar.gz /Library/Frameworks/R.framework/Resources/bin/R periodicDNA.buildbin-libdir StartedAt: 2025-02-19 00:39:15 -0500 (Wed, 19 Feb 2025) EndedAt: 2025-02-19 00:40:04 -0500 (Wed, 19 Feb 2025) EllapsedTime: 48.7 seconds RetCode: 0 Status: OK PackageFile: periodicDNA_1.17.0.tgz PackageFileSize: 3.058 MiB