Package: pepXMLTab Version: 1.41.0 Command: E:\biocbuild\bbs-3.21-bioc\R\bin\R.exe CMD INSTALL pepXMLTab StartedAt: 2025-02-18 15:22:06 -0500 (Tue, 18 Feb 2025) EndedAt: 2025-02-18 15:22:15 -0500 (Tue, 18 Feb 2025) EllapsedTime: 9.2 seconds RetCode: 0 Status: OK