Package: pepXMLTab Version: 1.41.0 Command: rm -rf pepXMLTab.buildbin-libdir && mkdir pepXMLTab.buildbin-libdir && E:\biocbuild\bbs-3.21-bioc\R\bin\R.exe CMD INSTALL --build --library=pepXMLTab.buildbin-libdir pepXMLTab_1.41.0.tar.gz StartedAt: 2025-02-19 08:04:01 -0500 (Wed, 19 Feb 2025) EndedAt: 2025-02-19 08:04:08 -0500 (Wed, 19 Feb 2025) EllapsedTime: 6.9 seconds RetCode: 0 Status: OK PackageFile: pepXMLTab_1.41.0.zip PackageFileSize: 203.9 KiB