Package: pepXMLTab Version: 1.41.0 Command: /home/biocbuild/R/R/bin/R CMD INSTALL pepXMLTab StartedAt: 2025-01-29 19:34:05 -0000 (Wed, 29 Jan 2025) EndedAt: 2025-01-29 19:34:16 -0000 (Wed, 29 Jan 2025) EllapsedTime: 11.4 seconds RetCode: 0 Status: OK