Package: pepXMLTab Version: 1.41.0 Command: /home/biocbuild/R/R/bin/R CMD check --install=check:pepXMLTab.install-out.txt --library=/home/biocbuild/R/R/site-library --no-vignettes --timings pepXMLTab_1.41.0.tar.gz StartedAt: 2025-01-28 13:50:49 -0000 (Tue, 28 Jan 2025) EndedAt: 2025-01-28 13:51:13 -0000 (Tue, 28 Jan 2025) EllapsedTime: 24.0 seconds RetCode: 0 Status: OK CheckDir: pepXMLTab.Rcheck Warnings: 0