Package: pepStat Version: 1.41.0 Command: /Library/Frameworks/R.framework/Resources/bin/R CMD build --keep-empty-dirs --no-resave-data pepStat StartedAt: 2025-02-20 17:14:01 -0500 (Thu, 20 Feb 2025) EndedAt: 2025-02-20 17:14:24 -0500 (Thu, 20 Feb 2025) EllapsedTime: 23.3 seconds RetCode: 0 Status: OK PackageFile: pepStat_1.41.0.tar.gz PackageFileSize: 319.7 KiB