Package: pepStat Version: 1.41.0 Command: rm -rf pepStat.buildbin-libdir && mkdir pepStat.buildbin-libdir && /Users/biocbuild/BBS/utils/build-universal.sh pepStat_1.41.0.tar.gz /Library/Frameworks/R.framework/Resources/bin/R pepStat.buildbin-libdir StartedAt: 2025-02-20 22:29:31 -0500 (Thu, 20 Feb 2025) EndedAt: 2025-02-20 22:29:39 -0500 (Thu, 20 Feb 2025) EllapsedTime: 7.2 seconds RetCode: 0 Status: OK PackageFile: pepStat_1.41.0.tgz PackageFileSize: 737.4 KiB