Package: pengls Version: 1.13.0 Command: /Library/Frameworks/R.framework/Resources/bin/R CMD INSTALL pengls StartedAt: 2025-02-19 15:20:37 -0500 (Wed, 19 Feb 2025) EndedAt: 2025-02-19 15:20:39 -0500 (Wed, 19 Feb 2025) EllapsedTime: 2.3 seconds RetCode: 0 Status: OK