Package: pengls Version: 1.13.0 Command: /Library/Frameworks/R.framework/Resources/bin/R CMD build --keep-empty-dirs --no-resave-data pengls StartedAt: 2025-02-19 17:14:52 -0500 (Wed, 19 Feb 2025) EndedAt: 2025-02-19 17:15:14 -0500 (Wed, 19 Feb 2025) EllapsedTime: 22.2 seconds RetCode: 0 Status: OK PackageFile: pengls_1.13.0.tar.gz PackageFileSize: 61.63 KiB