Package: peco Version: 1.19.0 Command: E:\biocbuild\bbs-3.21-bioc\R\bin\R.exe CMD check --no-multiarch --install=check:peco.install-out.txt --library=E:\biocbuild\bbs-3.21-bioc\R\library --no-vignettes --timings peco_1.19.0.tar.gz StartedAt: 2025-02-19 03:53:55 -0500 (Wed, 19 Feb 2025) EndedAt: 2025-02-19 04:04:42 -0500 (Wed, 19 Feb 2025) EllapsedTime: 647.4 seconds RetCode: 0 Status: OK CheckDir: peco.Rcheck Warnings: 0