Package: peco Version: 1.19.0 Command: chmod a+r peco -R && E:\biocbuild\bbs-3.21-bioc\R\bin\R.exe CMD build --keep-empty-dirs --no-resave-data peco StartedAt: 2025-02-18 20:37:26 -0500 (Tue, 18 Feb 2025) EndedAt: 2025-02-18 20:40:20 -0500 (Tue, 18 Feb 2025) EllapsedTime: 174.2 seconds RetCode: 0 Status: OK PackageFile: peco_1.19.0.tar.gz PackageFileSize: 1.028 MiB