Package: peco Version: 1.19.0 Command: /home/biocbuild/bbs-3.21-bioc/R/bin/R CMD check --install=check:peco.install-out.txt --library=/home/biocbuild/bbs-3.21-bioc/R/site-library --timings peco_1.19.0.tar.gz StartedAt: 2025-02-19 00:52:01 -0500 (Wed, 19 Feb 2025) EndedAt: 2025-02-19 01:01:53 -0500 (Wed, 19 Feb 2025) EllapsedTime: 592.0 seconds RetCode: 0 Status: OK CheckDir: peco.Rcheck Warnings: 0